BEGIN:VCALENDAR
VERSION:2.0
PRODID:-//stadtkantorat-freiburg.de//NONSGML kigkonsult.se iCalcreator 2.41.92//
CALSCALE:GREGORIAN
METHOD:PUBLISH
UID:34663034-3063-4034-b932-393464303431
X-WR-TIMEZONE:Europe/Berlin
X-LIC-LOCATION:Europe/Berlin
BEGIN:VTIMEZONE
TZID:Europe/Berlin
BEGIN:DAYLIGHT
TZOFFSETFROM:+0100
TZOFFSETTO:+0200
TZNAME:CEST
DTSTART:19700329T020000
RRULE:FREQ=YEARLY;BYDAY=-1SU;BYMONTH=3
END:DAYLIGHT
BEGIN:STANDARD
TZOFFSETFROM:+0200
TZOFFSETTO:+0100
TZNAME:CET
DTSTART:19701025T030000
RRULE:FREQ=YEARLY;BYDAY=-1SU;BYMONTH=10
END:STANDARD
END:VTIMEZONE
BEGIN:VEVENT
UID:34353136-3336-4333-a361-613631303435
DTSTAMP:20260421T165715Z
DESCRIPTION:Christuskantorei Jugendkantorei an der Christuskirche Bezirksbl
 äser (Leitung Frieder Reich) Bezirkskantor Lars Schwarze Pfarrerin Dr. Alw
 ine Slenczka\n \n Veranstaltungsort:\n Christuskirche\n Maienstr. 2\n 7910
 2 Freiburg\n \n Veranstalter:\n Christusgemeinde
DTSTART;TZID=Europe/Berlin:20260712T110000
DTEND;TZID=Europe/Berlin:20260712T120000
LOCATION:Christuskirche\n - Maienstr. 2\n - 79102 Freiburg
SUMMARY:Musikgottesdienst zum Christushock
X-ALT-DESC;FMTTYPE=text/html:Christuskantorei\n Jugendkantorei an der Chris
 tuskirche\n Bezirksbläser (Leitung Frieder Reich)\n Bezirkskantor Lars Sch
 warze\n Pfarrerin Dr. Alwine Slenczka<br /><br />Veranstaltungsort: <br />
 Christuskirche<br />Maienstr. 2<br />79102 Freiburg<br /><br />Veranstalte
 r: <br />Christusgemeinde
END:VEVENT
END:VCALENDAR
