BEGIN:VCALENDAR
VERSION:2.0
PRODID:-//stadtkantorat-freiburg.de//NONSGML kigkonsult.se iCalcreator 2.41.92//
CALSCALE:GREGORIAN
METHOD:PUBLISH
UID:66393434-3964-4634-b561-633537366366
X-WR-TIMEZONE:Europe/Berlin
X-LIC-LOCATION:Europe/Berlin
BEGIN:VTIMEZONE
TZID:Europe/Berlin
BEGIN:DAYLIGHT
TZOFFSETFROM:+0100
TZOFFSETTO:+0200
TZNAME:CEST
DTSTART:19700329T020000
RRULE:FREQ=YEARLY;BYDAY=-1SU;BYMONTH=3
END:DAYLIGHT
BEGIN:STANDARD
TZOFFSETFROM:+0200
TZOFFSETTO:+0100
TZNAME:CET
DTSTART:19701025T030000
RRULE:FREQ=YEARLY;BYDAY=-1SU;BYMONTH=10
END:STANDARD
END:VTIMEZONE
BEGIN:VEVENT
UID:31393735-3966-4461-b530-326232653238
DTSTAMP:20260421T164938Z
DESCRIPTION:Barockmusik mit Kuchenbuffet\n \n J.S. Bach: Schweigt stille\, 
 plaudert nicht (Kaffeekantate) BWV 211 J.S. Bach: Orchester-Suite Nr. 2 h-
 moll BWV 1067 H. Purcell: The Old Bachelor Z. 607 Isabel Schicketanz\, Sop
 ran Hans Jörg Mammel\, Tenor Jakob Kunath\, Bass Christusbarock Gottfried 
 von der Goltz\, Konzertmeister Bezirkskantor Lars Schwarze\, Leitung und C
 embalo Tickets: https://stadtkantoratfreiburg.reservix.de/events Ermäßigun
 g für Mitglieder des Kirchenmusikfördervereins Dieses Konzert ist Teil der
  Reihe „Mit Bach durch die Regio“\n \n Veranstaltungsort:\n Christuskirche
 \n Ecke Turnsee-/Zasiusstr.\n 79102 Freiburg\n \n Veranstalter:\n Stadtkan
 torat\n Maienstr. 2\n 79102 Freiburg\n Telefon: +49 761 70789321
DTSTART;TZID=Europe/Berlin:20260510T150000
DTEND;TZID=Europe/Berlin:20260510T160000
LOCATION:Christuskirche\n - Ecke Turnsee-/Zasiusstr.\n - 79102 Freiburg
SUMMARY:Kuchen mit Bach
X-ALT-DESC;FMTTYPE=text/html:Barockmusik mit Kuchenbuffet<br /><br />J.S. B
 ach: Schweigt stille\, plaudert nicht (Kaffeekantate) BWV 211\n J.S. Bach:
  Orchester-Suite Nr. 2 h-moll BWV 1067\n H. Purcell: The Old Bachelor Z. 6
 07\n Isabel Schicketanz\, Sopran\n Hans Jörg Mammel\, Tenor\n Jakob Kunath
 \, Bass\n Christusbarock\n Gottfried von der Goltz\, Konzertmeister\n Bezi
 rkskantor Lars Schwarze\, Leitung und Cembalo\n \n Tickets: https://stadtk
 antoratfreiburg.reservix.de/events\n Ermäßigung für Mitglieder des Kirchen
 musikfördervereins\n Dieses Konzert ist Teil der Reihe „Mit Bach durch die
  Regio“<br /><br />Veranstaltungsort: <br />Christuskirche<br />Ecke Turns
 ee-/Zasiusstr.<br />79102 Freiburg<br /><br />Veranstalter: <br />Stadtkan
 torat<br />Maienstr. 2  <br />79102 Freiburg<br />Telefon: +49 761 7078932
 1
END:VEVENT
END:VCALENDAR
