BEGIN:VCALENDAR
VERSION:2.0
PRODID:-//stadtkantorat-freiburg.de//NONSGML kigkonsult.se iCalcreator 2.41.92//
CALSCALE:GREGORIAN
METHOD:PUBLISH
UID:66313464-3764-4633-a364-663535336137
X-WR-TIMEZONE:Europe/Berlin
X-LIC-LOCATION:Europe/Berlin
BEGIN:VTIMEZONE
TZID:Europe/Berlin
BEGIN:DAYLIGHT
TZOFFSETFROM:+0100
TZOFFSETTO:+0200
TZNAME:CEST
DTSTART:19700329T020000
RRULE:FREQ=YEARLY;BYDAY=-1SU;BYMONTH=3
END:DAYLIGHT
BEGIN:STANDARD
TZOFFSETFROM:+0200
TZOFFSETTO:+0100
TZNAME:CET
DTSTART:19701025T030000
RRULE:FREQ=YEARLY;BYDAY=-1SU;BYMONTH=10
END:STANDARD
END:VTIMEZONE
BEGIN:VEVENT
UID:38636366-3965-4335-a537-376236636231
DTSTAMP:20260421T165639Z
DESCRIPTION:Musikalischer Abendgottesdienst nach anglikanischer Tradition\n
  \n Kantorin Laura Škarnulytė\, Leitung\n \n Veranstaltungsort:\n Christus
 kirche\n Maienstr. 2\n 79102 Freiburg\n \n Veranstalter:\n Christusgemeind
 e
DTSTART;TZID=Europe/Berlin:20260425T180000
DTEND;TZID=Europe/Berlin:20260425T190000
LOCATION:Christuskirche\n - Maienstr. 2\n - 79102 Freiburg
SUMMARY:Evensong – Vokalensemble FENESTRA Freiburg
X-ALT-DESC;FMTTYPE=text/html:Musikalischer Abendgottesdienst nach anglikani
 scher Tradition<br /><br />Kantorin Laura Škarnulytė\, Leitung<br /><br />
 Veranstaltungsort: <br />Christuskirche<br />Maienstr. 2<br />79102 Freibu
 rg<br /><br />Veranstalter: <br />Christusgemeinde
END:VEVENT
END:VCALENDAR
