BEGIN:VCALENDAR
VERSION:2.0
PRODID:-//stadtkantorat-freiburg.de//NONSGML kigkonsult.se iCalcreator 2.41.92//
CALSCALE:GREGORIAN
METHOD:PUBLISH
UID:31623738-3666-4231-b839-623836326237
X-WR-TIMEZONE:Europe/Berlin
X-LIC-LOCATION:Europe/Berlin
BEGIN:VTIMEZONE
TZID:Europe/Berlin
BEGIN:DAYLIGHT
TZOFFSETFROM:+0100
TZOFFSETTO:+0200
TZNAME:CEST
DTSTART:19700329T020000
RRULE:FREQ=YEARLY;BYDAY=-1SU;BYMONTH=3
END:DAYLIGHT
BEGIN:STANDARD
TZOFFSETFROM:+0200
TZOFFSETTO:+0100
TZNAME:CET
DTSTART:19701025T030000
RRULE:FREQ=YEARLY;BYDAY=-1SU;BYMONTH=10
END:STANDARD
END:VTIMEZONE
BEGIN:VEVENT
UID:61336536-6335-4232-b631-326431653435
DTSTAMP:20260421T165619Z
DESCRIPTION:Theologisch nachgehakt: Christentum und Antijudaismus.\n \n Okü
 menischer Abend mit Prof. Dr. Ferdinand R. Prostmeier Moderation: Prof. Dr
 . Michael Bachmann\n \n Veranstaltungsort:\n Gemeindesaal der Friedenskirc
 he\n Hirzbergstr. 1\n 79102 Freiburg - Oberau\n \n Veranstalter:\n Frieden
 sgemeinde
DTSTART;TZID=Europe/Berlin:20260507T200000
DTEND;TZID=Europe/Berlin:20260507T203000
LOCATION:Gemeindesaal der Friedenskirche\n - Hirzbergstr. 1\n - 79102 Freib
 urg - Oberau
SUMMARY:Antijüdische Polemik im Zweiten Jahrhundert
X-ALT-DESC;FMTTYPE=text/html:Theologisch nachgehakt: Christentum und Antiju
 daismus.<br /><br />Okümenischer Abend mit Prof. Dr. Ferdinand R. Prostmei
 er\n Moderation: Prof. Dr. Michael Bachmann<br /><br />Veranstaltungsort: 
 <br />Gemeindesaal der Friedenskirche<br />Hirzbergstr. 1<br />79102 Freib
 urg - Oberau<br /><br />Veranstalter: <br />Friedensgemeinde
END:VEVENT
END:VCALENDAR
