BEGIN:VCALENDAR
VERSION:2.0
PRODID:-//stadtkantorat-freiburg.de//NONSGML kigkonsult.se iCalcreator 2.41.92//
CALSCALE:GREGORIAN
METHOD:PUBLISH
UID:64633735-6635-4664-b433-343064343336
X-WR-TIMEZONE:Europe/Berlin
X-LIC-LOCATION:Europe/Berlin
BEGIN:VTIMEZONE
TZID:Europe/Berlin
BEGIN:DAYLIGHT
TZOFFSETFROM:+0100
TZOFFSETTO:+0200
TZNAME:CEST
DTSTART:19700329T020000
RRULE:FREQ=YEARLY;BYDAY=-1SU;BYMONTH=3
END:DAYLIGHT
BEGIN:STANDARD
TZOFFSETFROM:+0200
TZOFFSETTO:+0100
TZNAME:CET
DTSTART:19701025T030000
RRULE:FREQ=YEARLY;BYDAY=-1SU;BYMONTH=10
END:STANDARD
END:VTIMEZONE
BEGIN:VEVENT
UID:35663262-3535-4366-b937-633739393738
DTSTAMP:20260421T181923Z
DESCRIPTION:Das Ev. Stadtkantorat Freiburg und Bezirkskantor Lars Schwarze 
 laden in die Christuskirche zum offenen Liedersingen ein. Vorkenntnisse od
 er Chorerfahrung sind nicht erforderlich\, Gesangbücher gibt es vor Ort. W
 ir freuen uns auf Ihr Kommen! Ab 12:30 Cantina: Freitagsessen mit der Pfar
 rerin und Kochteam im Gemeindehaus\n \n Veranstaltungsort:\n Christuskirch
 e\n Ecke Turnsee-/Zasiusstr.\n 79102 Freiburg\n \n Veranstalter:\n Stadtka
 ntorat\n Maienstr. 2\n 79102 Freiburg\n Telefon: +49 761 70789321
DTSTART;TZID=Europe/Berlin:20261215T150000
DTEND;TZID=Europe/Berlin:20261215T160000
LOCATION:Christuskirche\n - Ecke Turnsee-/Zasiusstr.\n - 79102 Freiburg
SUMMARY:Canto - Offenes Liedersingen
X-ALT-DESC;FMTTYPE=text/html:Das Ev. Stadtkantorat Freiburg und Bezirkskant
 or Lars Schwarze laden in die Christuskirche zum offenen Liedersingen ein.
 \n \n Vorkenntnisse oder Chorerfahrung sind nicht erforderlich\, Gesangbüc
 her gibt es vor Ort.\n Wir freuen uns auf Ihr Kommen!\n \n \n Ab 12:30 Can
 tina: Freitagsessen mit der Pfarrerin und Kochteam im Gemeindehaus<br /><b
 r />Veranstaltungsort: <br />Christuskirche<br />Ecke Turnsee-/Zasiusstr.<
 br />79102 Freiburg<br /><br />Veranstalter: <br />Stadtkantorat<br />Maie
 nstr. 2  <br />79102 Freiburg<br />Telefon: +49 761 70789321
END:VEVENT
END:VCALENDAR
