BEGIN:VCALENDAR
VERSION:2.0
PRODID:-//stadtkantorat-freiburg.de//NONSGML kigkonsult.se iCalcreator 2.41.92//
CALSCALE:GREGORIAN
METHOD:PUBLISH
UID:37313031-6634-4334-a666-346133333563
X-WR-TIMEZONE:Europe/Berlin
X-LIC-LOCATION:Europe/Berlin
BEGIN:VTIMEZONE
TZID:Europe/Berlin
BEGIN:DAYLIGHT
TZOFFSETFROM:+0100
TZOFFSETTO:+0200
TZNAME:CEST
DTSTART:19700329T020000
RRULE:FREQ=YEARLY;BYDAY=-1SU;BYMONTH=3
END:DAYLIGHT
BEGIN:STANDARD
TZOFFSETFROM:+0200
TZOFFSETTO:+0100
TZNAME:CET
DTSTART:19701025T030000
RRULE:FREQ=YEARLY;BYDAY=-1SU;BYMONTH=10
END:STANDARD
END:VTIMEZONE
BEGIN:VEVENT
UID:37643832-3031-4466-b434-633466633363
DTSTAMP:20260421T165559Z
DESCRIPTION:mit dem Ensemble Context\n \n Auf dem Programm stehen die beide
 n Kantaten BWV 166 „Wo gehest Du hin?' und BWV 108 „Es ist euch gut\, dass
  ich hingehe' Sie gehören inhaltlich eng zusammen\, da sich beide mit den 
 Abschiedsreden Jesu an seine Jünger beschäftigen. Kontext zu den beiden Ka
 ntaten bietet uns wieder Prof. Dr. Thomas Seedorf. Tickets für 15 Euro / 1
 0 Euro erhalten Sie bei Reservix oder an der Abendkasse.\n \n Veranstaltun
 gsort:\n Auferstehungskirche\n Kappler Str. 25\n 79117 Freiburg\n \n Veran
 stalter:\n Auferstehungskirche
DTSTART;TZID=Europe/Berlin:20260426T180000
DTEND;TZID=Europe/Berlin:20260426T183000
LOCATION:Auferstehungskirche\n - Kappler Str. 25\n - 79117 Freiburg
SUMMARY:Konzert in der Auferstehungskirche
X-ALT-DESC;FMTTYPE=text/html:mit dem Ensemble Context<br /><br />Auf dem Pr
 ogramm stehen die beiden Kantaten\n BWV 166 „Wo gehest Du hin?' und\n BWV 
 108 „Es ist euch gut\, dass ich hingehe'\n Sie gehören inhaltlich eng zusa
 mmen\, da sich beide mit den Abschiedsreden Jesu an seine Jünger beschäfti
 gen.\n Kontext zu den beiden Kantaten bietet uns wieder Prof. Dr. Thomas S
 eedorf.\n Tickets für 15 Euro / 10 Euro erhalten Sie bei Reservix oder an 
 der Abendkasse.<br /><br />Veranstaltungsort: <br />Auferstehungskirche<br
  />Kappler Str. 25<br />79117 Freiburg<br /><br />Veranstalter: <br />Aufe
 rstehungskirche
END:VEVENT
END:VCALENDAR
