BEGIN:VCALENDAR
VERSION:2.0
PRODID:-//stadtkantorat-freiburg.de//NONSGML kigkonsult.se iCalcreator 2.41.92//
CALSCALE:GREGORIAN
METHOD:PUBLISH
UID:65356263-6537-4961-b163-663761343337
X-WR-TIMEZONE:Europe/Berlin
X-LIC-LOCATION:Europe/Berlin
BEGIN:VTIMEZONE
TZID:Europe/Berlin
BEGIN:DAYLIGHT
TZOFFSETFROM:+0100
TZOFFSETTO:+0200
TZNAME:CEST
DTSTART:19700329T020000
RRULE:FREQ=YEARLY;BYDAY=-1SU;BYMONTH=3
END:DAYLIGHT
BEGIN:STANDARD
TZOFFSETFROM:+0200
TZOFFSETTO:+0100
TZNAME:CET
DTSTART:19701025T030000
RRULE:FREQ=YEARLY;BYDAY=-1SU;BYMONTH=10
END:STANDARD
END:VTIMEZONE
BEGIN:VEVENT
UID:65396666-6564-4939-b461-663437316664
DTSTAMP:20260421T165507Z
DESCRIPTION:Lust\, neue Leute zu treffen\, alte Netzwerke zu beleben oder I
 deen in die Tat umzusetzen? Dann ist das ForumÜ60 vielleicht das Richtige 
 für Sie!\n \n Veranstaltungsort:\n Gemeindehaus Christuskirche Maienstraße
 \n Maienstr. 2\n 79102 Freiburg-Wiehre\n \n Veranstalter:\n Christusgemein
 de
DTSTART;TZID=Europe/Berlin:20260624T170000
DTEND;TZID=Europe/Berlin:20260624T180000
LOCATION:Gemeindehaus Christuskirche Maienstraße\n - Maienstr. 2\n - 79102 
 Freiburg-Wiehre
SUMMARY:Forum Ü60 - Vernetzungstreffen
X-ALT-DESC;FMTTYPE=text/html:Lust\, neue Leute zu treffen\, alte Netzwerke 
 zu beleben oder Ideen in die Tat umzusetzen? Dann ist das ForumÜ60 viellei
 cht das Richtige für Sie!<br /><br />Veranstaltungsort: <br />Gemeindehaus
  Christuskirche Maienstraße<br />Maienstr. 2<br />79102 Freiburg-Wiehre<br
  /><br />Veranstalter: <br />Christusgemeinde
END:VEVENT
END:VCALENDAR
