BEGIN:VCALENDAR
VERSION:2.0
PRODID:-//stadtkantorat-freiburg.de//NONSGML kigkonsult.se iCalcreator 2.41.92//
CALSCALE:GREGORIAN
METHOD:PUBLISH
UID:30393161-6363-4137-b834-303130363866
X-WR-TIMEZONE:Europe/Berlin
X-LIC-LOCATION:Europe/Berlin
BEGIN:VTIMEZONE
TZID:Europe/Berlin
BEGIN:DAYLIGHT
TZOFFSETFROM:+0100
TZOFFSETTO:+0200
TZNAME:CEST
DTSTART:19700329T020000
RRULE:FREQ=YEARLY;BYDAY=-1SU;BYMONTH=3
END:DAYLIGHT
BEGIN:STANDARD
TZOFFSETFROM:+0200
TZOFFSETTO:+0100
TZNAME:CET
DTSTART:19701025T030000
RRULE:FREQ=YEARLY;BYDAY=-1SU;BYMONTH=10
END:STANDARD
END:VTIMEZONE
BEGIN:VEVENT
UID:62613538-3062-4463-b236-386530623438
DTSTAMP:20260421T165426Z
DESCRIPTION:mit Julia Tripodo und Lukas Keck\n \n Deutsche Hochromantik tri
 fft auf französische Spätromantik\, welche französische Eleganz mit strukt
 urellen deutschen Einflüssen verbindet! Die italienisch-argentinisch-spani
 sche Cellistin Julia Tripodo und der deutsche Pianist (beide an der Hochsc
 hule für Musik Freiburg) werden ein deutsch-französisches Programm spielen
 .\n \n Veranstaltungsort:\n Friedenskirche\n Hirzbergstr. 1\n 79102 Freibu
 rg\n \n Veranstalter:\n Gastveranstalter
DTSTART;TZID=Europe/Berlin:20260515T190000
DTEND;TZID=Europe/Berlin:20260515T193000
LOCATION:Friedenskirche\n - Hirzbergstr. 1\n - 79102 Freiburg
SUMMARY:Cello Konzert in der Friedenskirche
X-ALT-DESC;FMTTYPE=text/html:mit Julia Tripodo und Lukas Keck<br /><br />De
 utsche Hochromantik trifft auf französische Spätromantik\, welche französi
 sche Eleganz mit strukturellen deutschen Einflüssen verbindet!\n Die itali
 enisch-argentinisch-spanische Cellistin Julia Tripodo und der deutsche Pia
 nist (beide an der Hochschule für Musik Freiburg) werden ein deutsch-franz
 ösisches Programm spielen.<br /><br />Veranstaltungsort: <br />Friedenskir
 che<br />Hirzbergstr. 1<br />79102 Freiburg<br /><br />Veranstalter: <br /
 >Gastveranstalter
END:VEVENT
END:VCALENDAR
