BEGIN:VCALENDAR
VERSION:2.0
PRODID:-//stadtkantorat-freiburg.de//NONSGML kigkonsult.se iCalcreator 2.41.92//
CALSCALE:GREGORIAN
METHOD:PUBLISH
UID:30643863-6536-4462-b932-363336343936
X-WR-TIMEZONE:Europe/Berlin
X-LIC-LOCATION:Europe/Berlin
BEGIN:VTIMEZONE
TZID:Europe/Berlin
BEGIN:DAYLIGHT
TZOFFSETFROM:+0100
TZOFFSETTO:+0200
TZNAME:CEST
DTSTART:19700329T020000
RRULE:FREQ=YEARLY;BYDAY=-1SU;BYMONTH=3
END:DAYLIGHT
BEGIN:STANDARD
TZOFFSETFROM:+0200
TZOFFSETTO:+0100
TZNAME:CET
DTSTART:19701025T030000
RRULE:FREQ=YEARLY;BYDAY=-1SU;BYMONTH=10
END:STANDARD
END:VTIMEZONE
BEGIN:VEVENT
UID:32613336-6134-4436-b732-303638366330
DTSTAMP:20260421T165447Z
DESCRIPTION:mit dem Badischen Zupforchester\n \n Das Badische Zupforchester
  (BZO)\, seit 55 Jahren ein Landesorchester des Bundes Deutscher Zupfmusik
 er\, präsentiert Originalkompositionen sowie Bearbeitungen geeigneter Werk
 e aus vergangenen Epochen. Ein Konzert der besonderen Art!\n \n Veranstalt
 ungsort:\n Friedenskirche\n Hirzbergstr. 1\n 79102 Freiburg\n \n Veranstal
 ter:\n Gastveranstalter
DTSTART;TZID=Europe/Berlin:20260426T180000
DTEND;TZID=Europe/Berlin:20260426T183000
LOCATION:Friedenskirche\n - Hirzbergstr. 1\n - 79102 Freiburg
SUMMARY:Konzert in der Friedenskirche
X-ALT-DESC;FMTTYPE=text/html:mit dem Badischen Zupforchester <br /><br />Da
 s Badische Zupforchester (BZO)\, seit 55 Jahren ein Landesorchester des Bu
 ndes Deutscher Zupfmusiker\, präsentiert Originalkompositionen sowie Bearb
 eitungen geeigneter Werke aus vergangenen Epochen. Ein Konzert der besonde
 ren Art!<br /><br />Veranstaltungsort: <br />Friedenskirche<br />Hirzbergs
 tr. 1<br />79102 Freiburg<br /><br />Veranstalter: <br />Gastveranstalter
END:VEVENT
END:VCALENDAR
