BEGIN:VCALENDAR
VERSION:2.0
PRODID:-//stadtkantorat-freiburg.de//NONSGML kigkonsult.se iCalcreator 2.41.92//
CALSCALE:GREGORIAN
METHOD:PUBLISH
UID:66393632-3762-4763-b736-666239623234
X-WR-TIMEZONE:Europe/Berlin
X-LIC-LOCATION:Europe/Berlin
BEGIN:VTIMEZONE
TZID:Europe/Berlin
BEGIN:DAYLIGHT
TZOFFSETFROM:+0100
TZOFFSETTO:+0200
TZNAME:CEST
DTSTART:19700329T020000
RRULE:FREQ=YEARLY;BYDAY=-1SU;BYMONTH=3
END:DAYLIGHT
BEGIN:STANDARD
TZOFFSETFROM:+0200
TZOFFSETTO:+0100
TZNAME:CET
DTSTART:19701025T030000
RRULE:FREQ=YEARLY;BYDAY=-1SU;BYMONTH=10
END:STANDARD
END:VTIMEZONE
BEGIN:VEVENT
UID:38363330-3064-4234-b264-303937393562
DTSTAMP:20260421T165023Z
DESCRIPTION:Das neue Evangelische Gesangbuch LKMD Kord Michaelis & Studiere
 nde der Musikhochschule Der Eintritt ist frei.\n \n Veranstaltungsort:\n E
 v. Kreuzkirche Stühlinger\n Fehrenbachallee 50\n 79106 Freiburg\n \n Veran
 stalter:\n Pfarrgemeinde West
DTSTART;TZID=Europe/Berlin:20260508T190000
DTEND;TZID=Europe/Berlin:20260508T200000
LOCATION:Ev. Kreuzkirche Stühlinger\n - Fehrenbachallee 50\n - 79106 Freibu
 rg
SUMMARY:Mitsingen & Entdecken
X-ALT-DESC;FMTTYPE=text/html:Das neue Evangelische Gesangbuch\n LKMD Kord M
 ichaelis & Studierende der Musikhochschule\n Der Eintritt ist frei.<br /><
 br />Veranstaltungsort: <br />Ev. Kreuzkirche Stühlinger<br />Fehrenbachal
 lee 50<br />79106 Freiburg<br /><br />Veranstalter: <br />Pfarrgemeinde We
 st
END:VEVENT
END:VCALENDAR
